BEGIN:VCALENDAR
VERSION:2.0
PRODID:-//Pearl Chase Society - ECPv6.15.18//NONSGML v1.0//EN
CALSCALE:GREGORIAN
METHOD:PUBLISH
X-ORIGINAL-URL:https://pearlchasesociety.org
X-WR-CALDESC:Events for Pearl Chase Society
REFRESH-INTERVAL;VALUE=DURATION:PT1H
X-Robots-Tag:noindex
X-PUBLISHED-TTL:PT1H
BEGIN:VTIMEZONE
TZID:America/Los_Angeles
BEGIN:DAYLIGHT
TZOFFSETFROM:-0800
TZOFFSETTO:-0700
TZNAME:PDT
DTSTART:20240310T100000
END:DAYLIGHT
BEGIN:STANDARD
TZOFFSETFROM:-0700
TZOFFSETTO:-0800
TZNAME:PST
DTSTART:20241103T090000
END:STANDARD
BEGIN:DAYLIGHT
TZOFFSETFROM:-0800
TZOFFSETTO:-0700
TZNAME:PDT
DTSTART:20250309T100000
END:DAYLIGHT
BEGIN:STANDARD
TZOFFSETFROM:-0700
TZOFFSETTO:-0800
TZNAME:PST
DTSTART:20251102T090000
END:STANDARD
BEGIN:DAYLIGHT
TZOFFSETFROM:-0800
TZOFFSETTO:-0700
TZNAME:PDT
DTSTART:20260308T100000
END:DAYLIGHT
BEGIN:STANDARD
TZOFFSETFROM:-0700
TZOFFSETTO:-0800
TZNAME:PST
DTSTART:20261101T090000
END:STANDARD
BEGIN:DAYLIGHT
TZOFFSETFROM:-0800
TZOFFSETTO:-0700
TZNAME:PDT
DTSTART:20270314T100000
END:DAYLIGHT
BEGIN:STANDARD
TZOFFSETFROM:-0700
TZOFFSETTO:-0800
TZNAME:PST
DTSTART:20271107T090000
END:STANDARD
END:VTIMEZONE
BEGIN:VEVENT
DTSTART;TZID=America/Los_Angeles:20250912T180000
DTEND;TZID=America/Los_Angeles:20250912T193000
DTSTAMP:20260423T170542
CREATED:20250730T162155Z
LAST-MODIFIED:20250905T183048Z
UID:1193-1757700000-1757705400@pearlchasesociety.org
SUMMARY:The Gamble House: A Landmark's Power to Inspire and Transform
DESCRIPTION:
URL:https://pearlchasesociety.org/event/the-gamble-house-a-landmarks-power-to-inspire-and-transform/
LOCATION:Alhecama Theatre\, 215a East Canon Perdido St\, Santa Barbara\, CA\, 93101\, United States
ATTACH;FMTTYPE=image/jpeg:https://pearlchasesociety.org/wp-content/uploads/2025/07/Y-The-Gamble-House-A-Landmarks-Power-to-Inspire-and-Trans.jpg
END:VEVENT
BEGIN:VEVENT
DTSTART;TZID=America/Los_Angeles:20251107T180000
DTEND;TZID=America/Los_Angeles:20251107T193000
DTSTAMP:20260423T170542
CREATED:20251013T184847Z
LAST-MODIFIED:20251013T185253Z
UID:1227-1762538400-1762543800@pearlchasesociety.org
SUMMARY:A Guide to Santa Barbara Architecture and Places of Interest
DESCRIPTION:
URL:https://pearlchasesociety.org/event/a-guide-to-santa-barbara-architecture-and-places-of-interest/
LOCATION:Alhecama Theatre\, 215a East Canon Perdido St\, Santa Barbara\, CA\, 93101\, United States
END:VEVENT
BEGIN:VEVENT
DTSTART;TZID=America/Los_Angeles:20260424T180000
DTEND;TZID=America/Los_Angeles:20260424T190000
DTSTAMP:20260423T170542
CREATED:20260402T153229Z
LAST-MODIFIED:20260402T153231Z
UID:1276-1777053600-1777057200@pearlchasesociety.org
SUMMARY:Dwight Murphy: A Most Influential Man of Santa Barbara
DESCRIPTION:
URL:https://pearlchasesociety.org/event/dwight-murphy-a-most-influential-man-of-santa-barbara/
LOCATION:Carriage and Western Art Museum\, 129 Castillo Street\, Santa Barbara\, California\, 93101\, United States
END:VEVENT
END:VCALENDAR