BEGIN:VCALENDAR
VERSION:2.0
PRODID:-//Pearl Chase Society - ECPv6.15.18//NONSGML v1.0//EN
CALSCALE:GREGORIAN
METHOD:PUBLISH
X-ORIGINAL-URL:https://pearlchasesociety.org
X-WR-CALDESC:Events for Pearl Chase Society
REFRESH-INTERVAL;VALUE=DURATION:PT1H
X-Robots-Tag:noindex
X-PUBLISHED-TTL:PT1H
BEGIN:VTIMEZONE
TZID:America/Los_Angeles
BEGIN:DAYLIGHT
TZOFFSETFROM:-0800
TZOFFSETTO:-0700
TZNAME:PDT
DTSTART:20230312T100000
END:DAYLIGHT
BEGIN:STANDARD
TZOFFSETFROM:-0700
TZOFFSETTO:-0800
TZNAME:PST
DTSTART:20231105T090000
END:STANDARD
BEGIN:DAYLIGHT
TZOFFSETFROM:-0800
TZOFFSETTO:-0700
TZNAME:PDT
DTSTART:20240310T100000
END:DAYLIGHT
BEGIN:STANDARD
TZOFFSETFROM:-0700
TZOFFSETTO:-0800
TZNAME:PST
DTSTART:20241103T090000
END:STANDARD
BEGIN:DAYLIGHT
TZOFFSETFROM:-0800
TZOFFSETTO:-0700
TZNAME:PDT
DTSTART:20250309T100000
END:DAYLIGHT
BEGIN:STANDARD
TZOFFSETFROM:-0700
TZOFFSETTO:-0800
TZNAME:PST
DTSTART:20251102T090000
END:STANDARD
END:VTIMEZONE
BEGIN:VEVENT
DTSTART;TZID=America/Los_Angeles:20240830T173000
DTEND;TZID=America/Los_Angeles:20240830T190000
DTSTAMP:20260420T031838
CREATED:20240328T181616Z
LAST-MODIFIED:20240701T214336Z
UID:948-1725039000-1725044400@pearlchasesociety.org
SUMMARY:Kellam de Forest Speaker Series: Decoding the Art of Franceschi House
DESCRIPTION:Longtime Pearl Chase Society member\, Rick Closson\, will offer history and context for many of Alden Freeman’s mysterious medallions\, plus unveil important sculpture on the property by a noted 20th century National Academician never before on display.
URL:https://pearlchasesociety.org/event/kellam-de-forest-speaker-series-the-importance-of-franceschi-house/
LOCATION:Alhecama Theatre\, 215a East Canon Perdido St\, Santa Barbara\, CA\, 93101\, United States
CATEGORIES:Kellam de Forest Speaker Series
END:VEVENT
END:VCALENDAR